BEGIN:VCALENDAR
VERSION:2.0
PRODID:-//bebruck.at - ECPv6.15.11//NONSGML v1.0//EN
CALSCALE:GREGORIAN
METHOD:PUBLISH
X-ORIGINAL-URL:https://www.bebruck.at
X-WR-CALDESC:Veranstaltungen für bebruck.at
REFRESH-INTERVAL;VALUE=DURATION:PT1H
X-Robots-Tag:noindex
X-PUBLISHED-TTL:PT1H
BEGIN:VTIMEZONE
TZID:Europe/Vienna
BEGIN:DAYLIGHT
TZOFFSETFROM:+0100
TZOFFSETTO:+0200
TZNAME:CEST
DTSTART:20250330T010000
END:DAYLIGHT
BEGIN:STANDARD
TZOFFSETFROM:+0200
TZOFFSETTO:+0100
TZNAME:CET
DTSTART:20251026T010000
END:STANDARD
BEGIN:DAYLIGHT
TZOFFSETFROM:+0100
TZOFFSETTO:+0200
TZNAME:CEST
DTSTART:20260329T010000
END:DAYLIGHT
BEGIN:STANDARD
TZOFFSETFROM:+0200
TZOFFSETTO:+0100
TZNAME:CET
DTSTART:20261025T010000
END:STANDARD
BEGIN:DAYLIGHT
TZOFFSETFROM:+0100
TZOFFSETTO:+0200
TZNAME:CEST
DTSTART:20270328T010000
END:DAYLIGHT
BEGIN:STANDARD
TZOFFSETFROM:+0200
TZOFFSETTO:+0100
TZNAME:CET
DTSTART:20271031T010000
END:STANDARD
END:VTIMEZONE
BEGIN:VEVENT
DTSTART;VALUE=DATE:20260519
DTEND;VALUE=DATE:20260520
DTSTAMP:20260421T192131
CREATED:20260223T153305Z
LAST-MODIFIED:20260223T153708Z
UID:23635-1779148800-1779235199@www.bebruck.at
SUMMARY:AP - ÜFA - Haupttermin 2026
DESCRIPTION:
URL:https://www.bebruck.at/event/ap-uefa-haupttermin-2026-2/
END:VEVENT
BEGIN:VEVENT
DTSTART;VALUE=DATE:20260521
DTEND;VALUE=DATE:20260522
DTSTAMP:20260421T192131
CREATED:20260223T153305Z
LAST-MODIFIED:20260223T153708Z
UID:23636-1779321600-1779407999@www.bebruck.at
SUMMARY:RDP Beurteilungskonferenz 5ABCK
DESCRIPTION:
URL:https://www.bebruck.at/event/rdp-beurteilungskonferenz-5abck-2/
END:VEVENT
BEGIN:VEVENT
DTSTART;VALUE=DATE:20260521
DTEND;VALUE=DATE:20260522
DTSTAMP:20260421T192131
CREATED:20260223T153305Z
LAST-MODIFIED:20260223T153708Z
UID:23637-1779321600-1779407999@www.bebruck.at
SUMMARY:Businessday
DESCRIPTION:
URL:https://www.bebruck.at/event/businessday-3/
END:VEVENT
BEGIN:VEVENT
DTSTART;VALUE=DATE:20260525
DTEND;VALUE=DATE:20260526
DTSTAMP:20260421T192131
CREATED:20260223T153305Z
LAST-MODIFIED:20260223T153708Z
UID:23638-1779667200-1779753599@www.bebruck.at
SUMMARY:Pfingstmontag
DESCRIPTION:
URL:https://www.bebruck.at/event/pfingstmontag-5/
END:VEVENT
BEGIN:VEVENT
DTSTART;VALUE=DATE:20260602
DTEND;VALUE=DATE:20260603
DTSTAMP:20260421T192131
CREATED:20260223T153305Z
LAST-MODIFIED:20260223T153708Z
UID:23639-1780358400-1780444799@www.bebruck.at
SUMMARY:sRDP - Komp. Haupttermin 2026
DESCRIPTION:
URL:https://www.bebruck.at/event/srdp-komp-haupttermin-2026-2/
END:VEVENT
BEGIN:VEVENT
DTSTART;VALUE=DATE:20260603
DTEND;VALUE=DATE:20260604
DTSTAMP:20260421T192131
CREATED:20260223T153315Z
LAST-MODIFIED:20260223T153909Z
UID:23640-1780444800-1780531199@www.bebruck.at
SUMMARY:AP Beurteilungskonferenz 3AS
DESCRIPTION:
URL:https://www.bebruck.at/event/ap-beurteilungskonferenz-3as-2/
END:VEVENT
BEGIN:VEVENT
DTSTART;VALUE=DATE:20260608
DTEND;VALUE=DATE:20260609
DTSTAMP:20260421T192131
CREATED:20260223T153315Z
LAST-MODIFIED:20260223T153909Z
UID:23641-1780876800-1780963199@www.bebruck.at
SUMMARY:mündl. RDP Haupttermin 2026
DESCRIPTION:
URL:https://www.bebruck.at/event/muendl-rdp-haupttermin-2026-2/
END:VEVENT
BEGIN:VEVENT
DTSTART;VALUE=DATE:20260619
DTEND;VALUE=DATE:20260620
DTSTAMP:20260421T192131
CREATED:20260223T153315Z
LAST-MODIFIED:20260223T153909Z
UID:23642-1781827200-1781913599@www.bebruck.at
SUMMARY:Notenschluss
DESCRIPTION:
URL:https://www.bebruck.at/event/notenschluss-4/
END:VEVENT
BEGIN:VEVENT
DTSTART;VALUE=DATE:20260622
DTEND;VALUE=DATE:20260623
DTSTAMP:20260421T192131
CREATED:20260223T153315Z
LAST-MODIFIED:20260223T153909Z
UID:23643-1782086400-1782172799@www.bebruck.at
SUMMARY:mündl. AP Haupttermin 2026 + Komp AP
DESCRIPTION:
URL:https://www.bebruck.at/event/muendl-ap-haupttermin-2026-komp-ap-2/
END:VEVENT
BEGIN:VEVENT
DTSTART;VALUE=DATE:20260625
DTEND;VALUE=DATE:20260626
DTSTAMP:20260421T192131
CREATED:20260223T153315Z
LAST-MODIFIED:20260223T153909Z
UID:23644-1782345600-1782431999@www.bebruck.at
SUMMARY:Schlusskonferenz
DESCRIPTION:
URL:https://www.bebruck.at/event/schlusskonferenz-5/
END:VEVENT
BEGIN:VEVENT
DTSTART;VALUE=DATE:20260629
DTEND;VALUE=DATE:20260630
DTSTAMP:20260421T192131
CREATED:20260223T153316Z
LAST-MODIFIED:20260223T154110Z
UID:23646-1782691200-1782777599@www.bebruck.at
SUMMARY:Projekttag
DESCRIPTION:
URL:https://www.bebruck.at/event/projekttag-3/
END:VEVENT
BEGIN:VEVENT
DTSTART;VALUE=DATE:20260630
DTEND;VALUE=DATE:20260701
DTSTAMP:20260421T192131
CREATED:20260223T153316Z
LAST-MODIFIED:20260223T154110Z
UID:23647-1782777600-1782863999@www.bebruck.at
SUMMARY:Sportfest
DESCRIPTION:
URL:https://www.bebruck.at/event/sportfest-5/
END:VEVENT
BEGIN:VEVENT
DTSTART;VALUE=DATE:20260701
DTEND;VALUE=DATE:20260702
DTSTAMP:20260421T192131
CREATED:20260223T152840Z
LAST-MODIFIED:20260223T155411Z
UID:23595-1782864000-1782950399@www.bebruck.at
SUMMARY:Projekttag
DESCRIPTION:
URL:https://www.bebruck.at/event/projekttag/
END:VEVENT
BEGIN:VEVENT
DTSTART;VALUE=DATE:20260703
DTEND;VALUE=DATE:20260704
DTSTAMP:20260421T192131
CREATED:20260223T153316Z
LAST-MODIFIED:20260223T154110Z
UID:23648-1783036800-1783123199@www.bebruck.at
SUMMARY:Jahreszeugnis
DESCRIPTION:
URL:https://www.bebruck.at/event/jahreszeugnis-6/
END:VEVENT
BEGIN:VEVENT
DTSTART;VALUE=DATE:20260706
DTEND;VALUE=DATE:20260907
DTSTAMP:20260421T192131
CREATED:20260223T153316Z
LAST-MODIFIED:20260223T154110Z
UID:23649-1783296000-1788739199@www.bebruck.at
SUMMARY:Sommerferien
DESCRIPTION:
URL:https://www.bebruck.at/event/sommerferien-4/
END:VEVENT
BEGIN:VEVENT
DTSTART;VALUE=DATE:20260903
DTEND;VALUE=DATE:20260905
DTSTAMP:20260421T192131
CREATED:20260223T153325Z
LAST-MODIFIED:20260223T154148Z
UID:23650-1788393600-1788566399@www.bebruck.at
SUMMARY:Wiederholungsprüfungen
DESCRIPTION:
URL:https://www.bebruck.at/event/wiederholungspruefungen-5/
END:VEVENT
BEGIN:VEVENT
DTSTART;VALUE=DATE:20260907
DTEND;VALUE=DATE:20260908
DTSTAMP:20260421T192131
CREATED:20260223T153325Z
LAST-MODIFIED:20260223T154148Z
UID:23651-1788739200-1788825599@www.bebruck.at
SUMMARY:allgemeiner Schulbeginn
DESCRIPTION:
URL:https://www.bebruck.at/event/allgemeiner-schulbeginn-3/
END:VEVENT
END:VCALENDAR