BEGIN:VCALENDAR
VERSION:2.0
PRODID:-//bebruck.at - ECPv6.15.11//NONSGML v1.0//EN
CALSCALE:GREGORIAN
METHOD:PUBLISH
X-ORIGINAL-URL:https://www.bebruck.at
X-WR-CALDESC:Veranstaltungen für bebruck.at
REFRESH-INTERVAL;VALUE=DURATION:PT1H
X-Robots-Tag:noindex
X-PUBLISHED-TTL:PT1H
BEGIN:VTIMEZONE
TZID:Europe/Vienna
BEGIN:DAYLIGHT
TZOFFSETFROM:+0100
TZOFFSETTO:+0200
TZNAME:CEST
DTSTART:20240331T010000
END:DAYLIGHT
BEGIN:STANDARD
TZOFFSETFROM:+0200
TZOFFSETTO:+0100
TZNAME:CET
DTSTART:20241027T010000
END:STANDARD
BEGIN:DAYLIGHT
TZOFFSETFROM:+0100
TZOFFSETTO:+0200
TZNAME:CEST
DTSTART:20250330T010000
END:DAYLIGHT
BEGIN:STANDARD
TZOFFSETFROM:+0200
TZOFFSETTO:+0100
TZNAME:CET
DTSTART:20251026T010000
END:STANDARD
BEGIN:DAYLIGHT
TZOFFSETFROM:+0100
TZOFFSETTO:+0200
TZNAME:CEST
DTSTART:20260329T010000
END:DAYLIGHT
BEGIN:STANDARD
TZOFFSETFROM:+0200
TZOFFSETTO:+0100
TZNAME:CET
DTSTART:20261025T010000
END:STANDARD
BEGIN:DAYLIGHT
TZOFFSETFROM:+0100
TZOFFSETTO:+0200
TZNAME:CEST
DTSTART:20270328T010000
END:DAYLIGHT
BEGIN:STANDARD
TZOFFSETFROM:+0200
TZOFFSETTO:+0100
TZNAME:CET
DTSTART:20271031T010000
END:STANDARD
END:VTIMEZONE
BEGIN:VEVENT
DTSTART;VALUE=DATE:20251202
DTEND;VALUE=DATE:20251205
DTSTAMP:20260421T202421
CREATED:20251110T065735Z
LAST-MODIFIED:20251110T065735Z
UID:23131-1764633600-1764892799@www.bebruck.at
SUMMARY:externe Schulevaluation
DESCRIPTION:
URL:https://www.bebruck.at/event/externe-schulevaluation/
END:VEVENT
BEGIN:VEVENT
DTSTART;TZID=Europe/Vienna:20251209T160000
DTEND;TZID=Europe/Vienna:20251209T160000
DTSTAMP:20260421T202421
CREATED:20250901T153223Z
LAST-MODIFIED:20250901T153421Z
UID:22787-1765296000-1765296000@www.bebruck.at
SUMMARY:Elternsprechtag
DESCRIPTION:
URL:https://www.bebruck.at/event/elternsprechtag-2/
END:VEVENT
BEGIN:VEVENT
DTSTART;VALUE=DATE:20251217
DTEND;VALUE=DATE:20251218
DTSTAMP:20260421T202421
CREATED:20250901T153238Z
LAST-MODIFIED:20250901T153411Z
UID:22788-1765929600-1766015999@www.bebruck.at
SUMMARY:Berufs- und Studienmesse - Schule
DESCRIPTION:
URL:https://www.bebruck.at/event/berufs-und-studienmesse-schule/
END:VEVENT
BEGIN:VEVENT
DTSTART;VALUE=DATE:20251224
DTEND;VALUE=DATE:20260107
DTSTAMP:20260421T202421
CREATED:20250901T153238Z
LAST-MODIFIED:20250901T153404Z
UID:22790-1766534400-1767743999@www.bebruck.at
SUMMARY:Weihnachtsferien
DESCRIPTION:
URL:https://www.bebruck.at/event/weihnachtsferien-2/
END:VEVENT
END:VCALENDAR