BEGIN:VCALENDAR
VERSION:2.0
PRODID:-//bebruck.at - ECPv6.15.11//NONSGML v1.0//EN
CALSCALE:GREGORIAN
METHOD:PUBLISH
X-ORIGINAL-URL:https://www.bebruck.at
X-WR-CALDESC:Veranstaltungen für bebruck.at
REFRESH-INTERVAL;VALUE=DURATION:PT1H
X-Robots-Tag:noindex
X-PUBLISHED-TTL:PT1H
BEGIN:VTIMEZONE
TZID:Europe/Vienna
BEGIN:DAYLIGHT
TZOFFSETFROM:+0100
TZOFFSETTO:+0200
TZNAME:CEST
DTSTART:20240331T010000
END:DAYLIGHT
BEGIN:STANDARD
TZOFFSETFROM:+0200
TZOFFSETTO:+0100
TZNAME:CET
DTSTART:20241027T010000
END:STANDARD
BEGIN:DAYLIGHT
TZOFFSETFROM:+0100
TZOFFSETTO:+0200
TZNAME:CEST
DTSTART:20250330T010000
END:DAYLIGHT
BEGIN:STANDARD
TZOFFSETFROM:+0200
TZOFFSETTO:+0100
TZNAME:CET
DTSTART:20251026T010000
END:STANDARD
BEGIN:DAYLIGHT
TZOFFSETFROM:+0100
TZOFFSETTO:+0200
TZNAME:CEST
DTSTART:20260329T010000
END:DAYLIGHT
BEGIN:STANDARD
TZOFFSETFROM:+0200
TZOFFSETTO:+0100
TZNAME:CET
DTSTART:20261025T010000
END:STANDARD
END:VTIMEZONE
BEGIN:VEVENT
DTSTART;VALUE=DATE:20250922
DTEND;VALUE=DATE:20250923
DTSTAMP:20260422T021725
CREATED:20250901T153207Z
LAST-MODIFIED:20250901T153518Z
UID:22773-1758499200-1758585599@www.bebruck.at
SUMMARY:RDP BFK (Herbsttermin)
DESCRIPTION:
URL:https://www.bebruck.at/event/rdp-bfk-herbsttermin/
END:VEVENT
BEGIN:VEVENT
DTSTART;TZID=Europe/Vienna:20250922T000000
DTEND;TZID=Europe/Vienna:20250926T000000
DTSTAMP:20260422T021725
CREATED:20250901T153208Z
LAST-MODIFIED:20250901T153208Z
UID:22782-1758499200-1758844800@www.bebruck.at
SUMMARY:Businessweek
DESCRIPTION:
URL:https://www.bebruck.at/event/businessweek-2/
END:VEVENT
END:VCALENDAR